BEGIN:VCALENDAR
VERSION:2.0
PRODID:-//InfraTalk America - ECPv6.15.20//NONSGML v1.0//EN
CALSCALE:GREGORIAN
METHOD:PUBLISH
X-WR-CALNAME:InfraTalk America
X-ORIGINAL-URL:https://infratalkamerica.com
X-WR-CALDESC:Events for InfraTalk America
REFRESH-INTERVAL;VALUE=DURATION:PT1H
X-Robots-Tag:noindex
X-PUBLISHED-TTL:PT1H
BEGIN:VTIMEZONE
TZID:America/New_York
BEGIN:DAYLIGHT
TZOFFSETFROM:-0500
TZOFFSETTO:-0400
TZNAME:EDT
DTSTART:20210314T070000
END:DAYLIGHT
BEGIN:STANDARD
TZOFFSETFROM:-0400
TZOFFSETTO:-0500
TZNAME:EST
DTSTART:20211107T060000
END:STANDARD
BEGIN:DAYLIGHT
TZOFFSETFROM:-0500
TZOFFSETTO:-0400
TZNAME:EDT
DTSTART:20220313T070000
END:DAYLIGHT
BEGIN:STANDARD
TZOFFSETFROM:-0400
TZOFFSETTO:-0500
TZNAME:EST
DTSTART:20221106T060000
END:STANDARD
BEGIN:DAYLIGHT
TZOFFSETFROM:-0500
TZOFFSETTO:-0400
TZNAME:EDT
DTSTART:20230312T070000
END:DAYLIGHT
BEGIN:STANDARD
TZOFFSETFROM:-0400
TZOFFSETTO:-0500
TZNAME:EST
DTSTART:20231105T060000
END:STANDARD
BEGIN:DAYLIGHT
TZOFFSETFROM:-0500
TZOFFSETTO:-0400
TZNAME:EDT
DTSTART:20240310T070000
END:DAYLIGHT
BEGIN:STANDARD
TZOFFSETFROM:-0400
TZOFFSETTO:-0500
TZNAME:EST
DTSTART:20241103T060000
END:STANDARD
BEGIN:DAYLIGHT
TZOFFSETFROM:-0500
TZOFFSETTO:-0400
TZNAME:EDT
DTSTART:20250309T070000
END:DAYLIGHT
BEGIN:STANDARD
TZOFFSETFROM:-0400
TZOFFSETTO:-0500
TZNAME:EST
DTSTART:20251102T060000
END:STANDARD
END:VTIMEZONE
BEGIN:VEVENT
DTSTART;VALUE=DATE:20240715
DTEND;VALUE=DATE:20240717
DTSTAMP:20260423T132350
CREATED:20231207T150515Z
LAST-MODIFIED:20231207T150515Z
UID:5991-1721001600-1721174399@infratalkamerica.com
SUMMARY:2024 National Workshop for State & Local Transportation Advocates (TIAC)
DESCRIPTION:
URL:https://infratalkamerica.com/event/2024-national-workshop-for-state-local-transportation-advocates-tiac/
LOCATION:Washington\, DC
CATEGORIES:Composite Bridges,Connected Construction,e-Ticketing,Positive Work Zone Protection
ATTACH;FMTTYPE=image/jpeg:https://infratalkamerica.com/wp-content/uploads/2023/09/shutterstock_113738845.jpg
END:VEVENT
BEGIN:VEVENT
DTSTART;VALUE=DATE:20240707
DTEND;VALUE=DATE:20240711
DTSTAMP:20260423T132350
CREATED:20240628T193835Z
LAST-MODIFIED:20240628T193835Z
UID:6408-1720310400-1720655999@infratalkamerica.com
SUMMARY:WASHTO Annual Meeting 2024
DESCRIPTION:
URL:https://infratalkamerica.com/event/washto-annual-meeting-2024/
LOCATION:Omaha\, Nebraska
CATEGORIES:Annual Meeting,Composite Bridges,Connected Construction,e-Ticketing,Positive Work Zone Protection
ATTACH;FMTTYPE=image/webp:https://infratalkamerica.com/wp-content/uploads/2024/06/rsw_1240cg_true.webp
END:VEVENT
BEGIN:VEVENT
DTSTART;VALUE=DATE:20240604
DTEND;VALUE=DATE:20240607
DTSTAMP:20260423T132350
CREATED:20240410T152103Z
LAST-MODIFIED:20240410T152733Z
UID:6331-1717459200-1717718399@infratalkamerica.com
SUMMARY:ACMA Composites Sustainability Today
DESCRIPTION:Most composites manufacturers report that they are seeking ways to decrease the emission of climate warming gases associated with the manufacture of their products. During this event\, you will have the chance to collaborate and network with key representatives responsible for sustainability initiatives at their companies. Discover strategies to transform your company’s sustainability vision and stay ahead in the race toward achieving a sustainable composites industry\, ensuring success while meeting the demands of stakeholders and customers alike. \nJoin 70+ peers for an inspiring event filled with networking opportunities and valuable insights. Register today and be part of the movement towards a more sustainable composites industry!
URL:https://infratalkamerica.com/event/acma-composites-sustainability-today/
LOCATION:Denver\, CO
CATEGORIES:Composite Bridges
ATTACH;FMTTYPE=image/png:https://infratalkamerica.com/wp-content/uploads/2024/04/Asset-1.png
END:VEVENT
BEGIN:VEVENT
DTSTART;VALUE=DATE:20240513
DTEND;VALUE=DATE:20240516
DTSTAMP:20260423T132350
CREATED:20231207T150219Z
LAST-MODIFIED:20231207T150219Z
UID:5987-1715558400-1715817599@infratalkamerica.com
SUMMARY:2024 ARTBA Federal Issues Program & TCC Fly-In
DESCRIPTION:
URL:https://infratalkamerica.com/event/2024-artba-federal-issues-program-tcc-fly-in/
LOCATION:Washington\, DC
CATEGORIES:Composite Bridges,Connected Construction,e-Ticketing,Positive Work Zone Protection
ATTACH;FMTTYPE=image/jpeg:https://infratalkamerica.com/wp-content/uploads/2023/09/shutterstock_113738845.jpg
END:VEVENT
BEGIN:VEVENT
DTSTART;VALUE=DATE:20240508
DTEND;VALUE=DATE:20240511
DTSTAMP:20260423T132350
CREATED:20231207T145404Z
LAST-MODIFIED:20231207T145404Z
UID:5972-1715126400-1715385599@infratalkamerica.com
SUMMARY:WTS International Annual Conference 2024
DESCRIPTION:
URL:https://infratalkamerica.com/event/wts-international-annual-conference-2024/
LOCATION:New Orleans\, Louisianna
CATEGORIES:Composite Bridges,Connected Construction,e-Ticketing,Positive Work Zone Protection
ATTACH;FMTTYPE=image/png:https://infratalkamerica.com/wp-content/uploads/2023/12/WTS-International-Annual-Conference-2024.png
END:VEVENT
BEGIN:VEVENT
DTSTART;VALUE=DATE:20240423
DTEND;VALUE=DATE:20240427
DTSTAMP:20260423T132350
CREATED:20231207T143517Z
LAST-MODIFIED:20231207T143517Z
UID:5953-1713830400-1714175999@infratalkamerica.com
SUMMARY:AASHTO Spring Meeting 2024
DESCRIPTION:The AASHTO Spring Meeting\, Tuesday\, April 23 through Friday\, April 26\, 2024\, provides transportation leaders the opportunity to collaborate on some of the biggest issues facing the industry today and tomorrow. Experts from all over the country will gather for sessions that highlight topics that are top of mind for state departments of transportation and partner agencies. The meeting will also host several AASHTO committees and councils through the course of the week. The Spring Meeting also serves as a way for the AASHTO Board of Directors and Executive Committee to conduct its business in preparation for fiscal year 2025. \nRegistration will open in January 2024
URL:https://infratalkamerica.com/event/aashto-spring-meeting-2024/
LOCATION:Madison\, Wisconsin
CATEGORIES:Composite Bridges,Connected Construction,e-Ticketing,Positive Work Zone Protection
ATTACH;FMTTYPE=image/png:https://infratalkamerica.com/wp-content/uploads/2023/12/AASHTO-Spring-Meeting-2024.png
ORGANIZER;CN="AASHTO":MAILTO:meetings_inquiry@aashto.org
END:VEVENT
BEGIN:VEVENT
DTSTART;VALUE=DATE:20240226
DTEND;VALUE=DATE:20240229
DTSTAMP:20260423T132350
CREATED:20240111T153404Z
LAST-MODIFIED:20240111T153404Z
UID:6084-1708905600-1709164799@infratalkamerica.com
SUMMARY:ACMA Composites Fly-In 2024
DESCRIPTION:The composites manufacturing industry has a compelling sustainability story to tell\, and ACMA’s Composites 2024 Fly-In will provide a unique setting to meet with Members of Congress and agency leadership to educate them on the valuable capabilities of composites and further open markets. \nJoin your fellow ACMA members in Washington\, D.C. to: \n\nAdvocate for the increased use of composites and to reduce climate impacts and promote sustainability across all market segments.\nAccess inside knowledge about policy and legislation that will impact your business\, and foster business relationships with federal agencies and Members of Congress 2024.\nGain important insights and potential leads in federally-influenced markets\, as well as network directly with agency and congressional leadership and your industry peers.
URL:https://infratalkamerica.com/event/acma-composites-fly-in-2024/
LOCATION:Washington\, DC
CATEGORIES:Composite Bridges
ATTACH;FMTTYPE=image/png:https://infratalkamerica.com/wp-content/uploads/2024/01/Screen-Shot-2024-01-11-at-10.33.06-AM.png
END:VEVENT
BEGIN:VEVENT
DTSTART;VALUE=DATE:20240107
DTEND;VALUE=DATE:20240112
DTSTAMP:20260423T132350
CREATED:20230905T160510Z
LAST-MODIFIED:20231019T171436Z
UID:5610-1704585600-1705017599@infratalkamerica.com
SUMMARY:2024 TRB Annual Meeting
DESCRIPTION:TRB’s Annual Meeting attracts thousands of transportation professionals from around the world. The program covers all transportation modes\, with sessions and workshops addressing topics of interest to policy makers\, administrators\, practitioners\, researchers\, and representatives of government\, industry\, and academic institutions.
URL:https://infratalkamerica.com/event/2024-trb-annual-meeting/
LOCATION:Washington\, DC
CATEGORIES:Composite Bridges,Connected Construction,e-Ticketing,Positive Work Zone Protection
ATTACH;FMTTYPE=image/png:https://infratalkamerica.com/wp-content/uploads/2023/09/987347.png
END:VEVENT
BEGIN:VEVENT
DTSTART;VALUE=DATE:20231113
DTEND;VALUE=DATE:20231114
DTSTAMP:20260423T132350
CREATED:20230822T043057Z
LAST-MODIFIED:20231019T171453Z
UID:5527-1699833600-1699919999@infratalkamerica.com
SUMMARY:2023 AASHTO Annual Meeting & Expo
DESCRIPTION:The AASHTO Annual Meeting\, one of the transportation industry’s most important conferences of the year\, brings together experts from the public and private sector to share the latest in industry policy and innovation. Attendees will have the opportunity to network with fellow transportation professionals and contribute to discussions on a wide range of issues facing the industry today and tomorrow.\nThe meeting will also host several AASHTO committees\, as well as the Board of Directors\, where members will set their priorities for the coming year.
URL:https://infratalkamerica.com/event/2023-aashto-annual-meeting-expo/
LOCATION:Indianapolis\, Indiana
CATEGORIES:Composite Bridges,Connected Construction,e-Ticketing,Positive Work Zone Protection
ATTACH;FMTTYPE=image/webp:https://infratalkamerica.com/wp-content/uploads/2023/08/378c9322941f4e608129f60ccfeb1f4c_0ec7e382cec0a64cbd26017c59f129b6.png.webp
END:VEVENT
BEGIN:VEVENT
DTSTART;VALUE=DATE:20231108
DTEND;VALUE=DATE:20231111
DTSTAMP:20260423T132350
CREATED:20230905T155346Z
LAST-MODIFIED:20231019T171507Z
UID:5596-1699401600-1699660799@infratalkamerica.com
SUMMARY:ARTBA Western & Central Regional Meeting
DESCRIPTION:
URL:https://infratalkamerica.com/event/artba-western-central-regional-meeting/
LOCATION:Las Colinas Dallas Resort
CATEGORIES:Composite Bridges,Connected Construction,e-Ticketing,Positive Work Zone Protection
ATTACH;FMTTYPE=image/jpeg:https://infratalkamerica.com/wp-content/uploads/2023/09/shutterstock_113738845.jpg
END:VEVENT
BEGIN:VEVENT
DTSTART;VALUE=DATE:20231107
DTEND;VALUE=DATE:20231110
DTSTAMP:20260423T132350
CREATED:20230905T160311Z
LAST-MODIFIED:20231019T171519Z
UID:5607-1699315200-1699574399@infratalkamerica.com
SUMMARY:ISI Virtual Conference 2023: Accelerate Action
DESCRIPTION:
URL:https://infratalkamerica.com/event/isi-virtual-conference-2023-accelerate-action/
LOCATION:Zoom Webinar
CATEGORIES:Composite Bridges,Virtual
ATTACH;FMTTYPE=image/png:https://infratalkamerica.com/wp-content/uploads/2023/09/093824.png
END:VEVENT
BEGIN:VEVENT
DTSTART;VALUE=DATE:20231101
DTEND;VALUE=DATE:20231104
DTSTAMP:20260423T132350
CREATED:20230905T155235Z
LAST-MODIFIED:20231206T145554Z
UID:5593-1698796800-1699055999@infratalkamerica.com
SUMMARY:ARTBA Northeastern & Southern Regional Meeting
DESCRIPTION:
URL:https://infratalkamerica.com/event/artba-northeastern-southern-regional-meeting/
LOCATION:Conrad Fort Lauderdale Beach
CATEGORIES:Composite Bridges,Connected Construction,e-Ticketing,Positive Work Zone Protection
ATTACH;FMTTYPE=image/jpeg:https://infratalkamerica.com/wp-content/uploads/2023/09/shutterstock_113738845.jpg
END:VEVENT
BEGIN:VEVENT
DTSTART;VALUE=DATE:20231030
DTEND;VALUE=DATE:20231103
DTSTAMP:20260423T132350
CREATED:20230822T042209Z
LAST-MODIFIED:20231019T171539Z
UID:5519-1698624000-1698969599@infratalkamerica.com
SUMMARY:CAMX
DESCRIPTION:CAMX – the Composites and Advanced Materials Expo – is the largest\, most comprehensive composites and advanced materials event in North America.
URL:https://infratalkamerica.com/event/camx-2023/
LOCATION:Atlanta\, Georgia
CATEGORIES:Composite Bridges
ATTACH;FMTTYPE=image/jpeg:https://infratalkamerica.com/wp-content/uploads/2023/08/Unknown.jpeg
END:VEVENT
BEGIN:VEVENT
DTSTART;TZID=America/New_York:20231026T130000
DTEND;TZID=America/New_York:20231026T130000
DTSTAMP:20260423T132350
CREATED:20230822T045004Z
LAST-MODIFIED:20231019T171557Z
UID:5545-1698325200-1698325200@infratalkamerica.com
SUMMARY:Thought leadership series: Accelerating Project Delivery through Innovation Procurement\, Partnerships\, and Financing Methods: Part 2
DESCRIPTION:Delivering the Benefits of the Bipartisan Infrastructure Law – Thought Leadership Series Webinars
URL:https://infratalkamerica.com/event/thought-leadership-series-accelerating-project-delivery-through-innovation-procurement-partnerships-and-financing-methods-part-2/
LOCATION:Webinar
CATEGORIES:Composite Bridges,Connected Construction,e-Ticketing,Positive Work Zone Protection,Webinar
ATTACH;FMTTYPE=image/png:https://infratalkamerica.com/wp-content/uploads/2023/08/e75203cc-26c4-4349-9255-43f9440365b8.png
END:VEVENT
BEGIN:VEVENT
DTSTART;TZID=America/New_York:20231019T073000
DTEND;TZID=America/New_York:20231019T163000
DTSTAMP:20260423T132350
CREATED:20230905T155000Z
LAST-MODIFIED:20231019T171637Z
UID:5585-1697700600-1697733000@infratalkamerica.com
SUMMARY:17th Annual Women In Construction Conference
DESCRIPTION:
URL:https://infratalkamerica.com/event/17th-annual-women-in-construction-conference/
LOCATION:Washington\, DC
CATEGORIES:Composite Bridges,Connected Construction,e-Ticketing,Positive Work Zone Protection
ATTACH;FMTTYPE=image/png:https://infratalkamerica.com/wp-content/uploads/2023/09/011212.png
END:VEVENT
BEGIN:VEVENT
DTSTART;TZID=America/New_York:20231012T130000
DTEND;TZID=America/New_York:20231012T130000
DTSTAMP:20260423T132350
CREATED:20230822T044835Z
LAST-MODIFIED:20231019T171649Z
UID:5543-1697115600-1697115600@infratalkamerica.com
SUMMARY:Thought leadership series: Accelerating Project Delivery through Innovation Procurement\, Partnerships\, and Financing Methods: Part 1
DESCRIPTION:Delivering the Benefits of the Bipartisan Infrastructure Law – Thought Leadership Series Webinars
URL:https://infratalkamerica.com/event/thought-leadership-series-accelerating-project-delivery-through-innovation-procurement-partnerships-and-financing-methods-part-1/
LOCATION:Webinar
CATEGORIES:Composite Bridges,Connected Construction,e-Ticketing,Positive Work Zone Protection,Webinar
ATTACH;FMTTYPE=image/png:https://infratalkamerica.com/wp-content/uploads/2023/08/e75203cc-26c4-4349-9255-43f9440365b8.png
END:VEVENT
BEGIN:VEVENT
DTSTART;TZID=America/New_York:20230927T130000
DTEND;TZID=America/New_York:20230927T130000
DTSTAMP:20260423T132350
CREATED:20230822T044645Z
LAST-MODIFIED:20231019T171710Z
UID:5541-1695819600-1695819600@infratalkamerica.com
SUMMARY:Thought leadership series: Using NEPA Review to Define and Shape Better Projects
DESCRIPTION:Delivering the Benefits of the Bipartisan Infrastructure Law – Thought Leadership Series Webinars
URL:https://infratalkamerica.com/event/thought-leadership-series-using-nepa-review-to-define-and-shape-better-projects/
LOCATION:Webinar
CATEGORIES:Composite Bridges,Connected Construction,e-Ticketing,Positive Work Zone Protection,Webinar
ATTACH;FMTTYPE=image/png:https://infratalkamerica.com/wp-content/uploads/2023/08/e75203cc-26c4-4349-9255-43f9440365b8.png
END:VEVENT
BEGIN:VEVENT
DTSTART;VALUE=DATE:20230910
DTEND;VALUE=DATE:20230914
DTSTAMP:20260423T132350
CREATED:20230905T155119Z
LAST-MODIFIED:20231019T171719Z
UID:5590-1694304000-1694649599@infratalkamerica.com
SUMMARY:2023 ARTBA National Convention
DESCRIPTION:
URL:https://infratalkamerica.com/event/2023-artba-national-convention/
LOCATION:Lodge at Torrey Pines
CATEGORIES:Composite Bridges,Connected Construction,e-Ticketing,Positive Work Zone Protection
ATTACH;FMTTYPE=image/jpeg:https://infratalkamerica.com/wp-content/uploads/2023/09/shutterstock_113738845.jpg
END:VEVENT
BEGIN:VEVENT
DTSTART;TZID=America/New_York:20230907T130000
DTEND;TZID=America/New_York:20230907T130000
DTSTAMP:20260423T132350
CREATED:20230822T044454Z
LAST-MODIFIED:20231019T171727Z
UID:5538-1694091600-1694091600@infratalkamerica.com
SUMMARY:Thought leadership series: Embedding Equity in Project Delivery
DESCRIPTION:Delivering the Benefits of the Bipartisan Infrastructure Law – Thought Leadership Series Webinars
URL:https://infratalkamerica.com/event/thought-leadership-series-sep7/
LOCATION:Webinar
CATEGORIES:Composite Bridges,Connected Construction,e-Ticketing,Positive Work Zone Protection,Virtual,Webinar
ATTACH;FMTTYPE=image/png:https://infratalkamerica.com/wp-content/uploads/2023/08/e75203cc-26c4-4349-9255-43f9440365b8.png
END:VEVENT
BEGIN:VEVENT
DTSTART;VALUE=DATE:20230906
DTEND;VALUE=DATE:20230908
DTSTAMP:20260423T132350
CREATED:20230905T160050Z
LAST-MODIFIED:20231019T171751Z
UID:5603-1693958400-1694131199@infratalkamerica.com
SUMMARY:International Composites Summit 2023
DESCRIPTION:The International Composites Summit (ICS)\, THE single place to do the most cost effective and sustainable composites business in the UK\, is back for its highly anticipated 2023 edition\, bringing together industry leaders\, researchers\, and innovators from across the composites sector.
URL:https://infratalkamerica.com/event/international-composites-summit-2023/
LOCATION:Marshall Arena\, Milton Keynes\, UK
CATEGORIES:Composite Bridges
ATTACH;FMTTYPE=image/png:https://infratalkamerica.com/wp-content/uploads/2023/09/9834.png
END:VEVENT
BEGIN:VEVENT
DTSTART;VALUE=DATE:20230808
DTEND;VALUE=DATE:20230811
DTSTAMP:20260423T132350
CREATED:20230413T201053Z
LAST-MODIFIED:20230413T201053Z
UID:4971-1691452800-1691711999@infratalkamerica.com
SUMMARY:The Transportation Infrastructure Durability Conference
DESCRIPTION:The Transportation Infrastructure Durability Conference is an in-person event that brings together University Researchers\, Industry Professionals\, and State & Municipal Government Leaders to discuss the latest advances in transportation. The agenda focuses on a broad range of topics including successful research and deployment of advanced materials\, structures\, and more. Tours of UMaine’s state-of-the-art research labs will also be available.
URL:https://infratalkamerica.com/event/the-transportation-infrastructure-durability-conference/
LOCATION:Wells Conference Center\, University of Maine
CATEGORIES:Composite Bridges
ATTACH;FMTTYPE=image/png:https://infratalkamerica.com/wp-content/uploads/2023/04/2023-Header-Banner-3.png
END:VEVENT
BEGIN:VEVENT
DTSTART;VALUE=DATE:20230307
DTEND;VALUE=DATE:20230308
DTSTAMP:20260423T132350
CREATED:20230217T173423Z
LAST-MODIFIED:20230217T173823Z
UID:4643-1678147200-1678233599@infratalkamerica.com
SUMMARY:About Construction/Infrastructure Composites Technology Days
DESCRIPTION:Composite materials can change the way roads\, bridges\, and buildings are built and maintained – offering a longer lifespan and increased durability and resiliency to create a more sustainable infrastructure for generations to come. Explore how this can be achieved and meet the professionals by attending the American Composites Manufacturers Association’s (ACMA) virtual Construction/Infrastructure Composites Technology Days on March 7\, 14\, 21\, and 28.
URL:https://infratalkamerica.com/event/about-construction-infrastructure-composites-technology-days/
LOCATION:Webinar
CATEGORIES:Composite Bridges,Virtual
ATTACH;FMTTYPE=image/png:https://infratalkamerica.com/wp-content/uploads/2023/02/Event0217.png
END:VEVENT
BEGIN:VEVENT
DTSTART;VALUE=DATE:20221115
DTEND;VALUE=DATE:20221118
DTSTAMP:20260423T132350
CREATED:20220715T220224Z
LAST-MODIFIED:20220901T173223Z
UID:1349-1668470400-1668729599@infratalkamerica.com
SUMMARY:ISI's third annual virtual conference
DESCRIPTION:Infrastructure is relied on for all basic human needs and services. As the pandemic laid bare in dramatic fashion\, the infrastructure of yesterday is no longer sufficient: communities are expecting more.  \nHigher quality infrastructure and expanded services are needed to support the new way we live\, work\, and play. Infrastructure is increasingly viewed as the key to community success and economic recovery by governments across the political spectrum. How can we deliver on infrastructure’s promise?  \nOur two-day virtual event opens with a focus on the challenges and opportunities that exist in the current operating environment\, exploring how infrastructure systems need to change to deliver more.  \nOn Day 2\, we shift gears to focus on actionable strategies to use right now! New infrastructure funding offers a limited window of opportunity to build the infrastructure needed to support thriving communities in the 21st century and having the right game plan will be essential.  \nParticipants in this conference will come away with a better understanding of the critical issues facing the infrastructure industry today and will find ready-to-use tools and insights to deliver more value in their projects and infrastructure assets. \nWho should attend? \nThis free conference will be of interest to anyone in the sustainable infrastructure community\, including: \n•	Planners\, architects\, engineers\, developers\, owners\, constructors\, operators\n•	Managers and decision-makers working in public sector agencies and private sector companies\n•	Employees at the municipal\, state\, or federal level with responsibility for infrastructure\n•	Infrastructure thought leaders and influencers\n•	Researchers and students at post-secondary institutions\n•	Envision Sustainability Professionals (ENV SPs) \nAnyone with a desire to learn something new about sustainable infrastructure is encouraged to attend this free event\, whether they’re a sustainability and resilience expert with 20- or 30 years of experience\, a mid-career professional\, or just starting their career.
URL:https://infratalkamerica.com/event/isis-third-annual-virtual-conference/
LOCATION:Webinar
CATEGORIES:Composite Bridges,Virtual
ATTACH;FMTTYPE=image/png:https://infratalkamerica.com/wp-content/uploads/2022/07/1bLqKXqHQP2brwjffDl0tA.png
END:VEVENT
BEGIN:VEVENT
DTSTART;VALUE=DATE:20221019
DTEND;VALUE=DATE:20221024
DTSTAMP:20260423T132350
CREATED:20220715T033351Z
LAST-MODIFIED:20220901T171155Z
UID:1329-1666137600-1666569599@infratalkamerica.com
SUMMARY:AASHTO 2022 Annual Meeting
DESCRIPTION:The AASHTO Annual Meeting is one of the industry’s most important gatherings of transportation\, government\, and commercial organizations. This week-long program offers transportation executives the opportunity to network and share the latest in industry policies and innovations.
URL:https://infratalkamerica.com/event/2022-aashto-annual-meeting/
LOCATION:Orlando\, FL\, United States
CATEGORIES:Annual Meeting,Composite Bridges,Connected Construction,e-Ticketing,Positive Work Zone Protection
ATTACH;FMTTYPE=image/png:https://infratalkamerica.com/wp-content/uploads/2022/09/Untitled-1.png
ORGANIZER;CN="Meghan Wozniak":MAILTO:mwozniak@aashto.org
END:VEVENT
BEGIN:VEVENT
DTSTART;VALUE=DATE:20221017
DTEND;VALUE=DATE:20221021
DTSTAMP:20260423T132350
CREATED:20220901T163018Z
LAST-MODIFIED:20220901T163243Z
UID:3606-1665964800-1666310399@infratalkamerica.com
SUMMARY:CAMX
DESCRIPTION:
URL:https://infratalkamerica.com/event/camx/
LOCATION:Anaheim Convention Center\, Anaheim\, CA\, United States
CATEGORIES:Composite Bridges,Connected Construction,e-Ticketing,Positive Work Zone Protection
ATTACH;FMTTYPE=image/png:https://infratalkamerica.com/wp-content/uploads/2022/09/CAMX.png
END:VEVENT
BEGIN:VEVENT
DTSTART;VALUE=DATE:20220925
DTEND;VALUE=DATE:20220929
DTSTAMP:20260423T132350
CREATED:20220901T154120Z
LAST-MODIFIED:20220901T154131Z
UID:3602-1664064000-1664409599@infratalkamerica.com
SUMMARY:2022 ARTBA National Convention
DESCRIPTION:
URL:https://infratalkamerica.com/event/2022-artba-national-convention/
LOCATION:Conrad Nashville\, 1620 West End Avenue\, Nashville\, TN\, 37203\, United States
CATEGORIES:Annual Meeting,Composite Bridges,Connected Construction,e-Ticketing,Positive Work Zone Protection
ATTACH;FMTTYPE=image/jpeg:https://infratalkamerica.com/wp-content/uploads/2022/09/shutterstock_113738845.jpg
END:VEVENT
BEGIN:VEVENT
DTSTART;VALUE=DATE:20220925
DTEND;VALUE=DATE:20220930
DTSTAMP:20260423T132350
CREATED:20220901T153646Z
LAST-MODIFIED:20220901T153656Z
UID:3597-1664064000-1664495999@infratalkamerica.com
SUMMARY:The 63rd Annual International Heep Conference: Tradewinds in Transportation Technology
DESCRIPTION:
URL:https://infratalkamerica.com/event/the-63rf-annual-international-heep-conference-tradewinds-in-transportation-technology/
LOCATION:Fort Meyers\, FL\, FL\, United States
CATEGORIES:Composite Bridges,Connected Construction,e-Ticketing,Positive Work Zone Protection
ATTACH;FMTTYPE=image/png:https://infratalkamerica.com/wp-content/uploads/2022/09/sanibel-island-lighthouse-590x230-1.png
END:VEVENT
BEGIN:VEVENT
DTSTART;TZID=America/New_York:20220911T130000
DTEND;TZID=America/New_York:20220913T120000
DTSTAMP:20260423T132350
CREATED:20220715T033157Z
LAST-MODIFIED:20220901T173303Z
UID:1326-1662901200-1663070400@infratalkamerica.com
SUMMARY:2022 AASHTO/AGC/ARTBA Joint Committee Meeting
DESCRIPTION:
URL:https://infratalkamerica.com/event/2022-aashto-agc-artba-joint-committee-meeting/
LOCATION:Webinar
CATEGORIES:Composite Bridges,Connected Construction,e-Ticketing,Positive Work Zone Protection,Webinar
ATTACH;FMTTYPE=image/png:https://infratalkamerica.com/wp-content/uploads/2022/07/american-association-of-state-highway-and-transportation-officials-aashto-vector-logo.png
ORGANIZER;CN="Monica Russell":MAILTO:mrussell@aashto.org
END:VEVENT
BEGIN:VEVENT
DTSTART;VALUE=DATE:20220906
DTEND;VALUE=DATE:20220909
DTSTAMP:20260423T132350
CREATED:20220715T032946Z
LAST-MODIFIED:20220901T173310Z
UID:1322-1662422400-1662681599@infratalkamerica.com
SUMMARY:AASHTO Committee on Transportation Communications (TransComm) Meeting
DESCRIPTION:The annual TransComm meeting brings together public relations professionals from the 50 states\, Puerto Rico and the District of Columbia departments of transportation\, along with our consultant partners\, representatives of the U.S. DOT and others interested in communicating transportation topics. \nThe TransComm Annual Meeting is an opportunity for transportation communicators from around the United States to build relationships that benefit their state DOTs\, highlight successes\, share ideas and learn from each other. In addition\, much of the committee’s business is carried out during the meeting.
URL:https://infratalkamerica.com/event/aashto-committee-on-transportation-communications-transcomm-meeting/
LOCATION:La Fonda on the Plaza\, 100 East San Francisco Street\, Santa Fe\, NM\, 87501\, United States
CATEGORIES:Annual Meeting,Composite Bridges,Connected Construction,e-Ticketing,Positive Work Zone Protection
ATTACH;FMTTYPE=image/png:https://infratalkamerica.com/wp-content/uploads/2022/07/e6549b76b25e48cb9f3d25fdb84e0bf5_b7d1ea017858717b3c55769aee25633f.png
ORGANIZER;CN="AASHTO":MAILTO:meetings_inquiry@aashto.org
END:VEVENT
BEGIN:VEVENT
DTSTART;TZID=America/New_York:20220731T130000
DTEND;TZID=America/New_York:20220804T150000
DTSTAMP:20260423T132350
CREATED:20220715T032537Z
LAST-MODIFIED:20220901T173329Z
UID:1318-1659272400-1659625200@infratalkamerica.com
SUMMARY:2022 AASHTO Committee on Materials and Pavements Annual Meeting
DESCRIPTION:
URL:https://infratalkamerica.com/event/2022-aashto-committee-on-material-and-pavement-annual-meeting/
LOCATION:Webinar
CATEGORIES:Composite Bridges,Connected Construction,e-Ticketing,Positive Work Zone Protection,Webinar
ATTACH;FMTTYPE=image/png:https://infratalkamerica.com/wp-content/uploads/2022/07/american-association-of-state-highway-and-transportation-officials-aashto-vector-logo.png
ORGANIZER;CN="Meghan Wozniak":MAILTO:mwozniak@aashto.org
END:VEVENT
END:VCALENDAR