BEGIN:VCALENDAR
VERSION:2.0
PRODID:-//InfraTalk America - ECPv6.15.20//NONSGML v1.0//EN
CALSCALE:GREGORIAN
METHOD:PUBLISH
X-ORIGINAL-URL:https://infratalkamerica.com
X-WR-CALDESC:Events for InfraTalk America
REFRESH-INTERVAL;VALUE=DURATION:PT1H
X-Robots-Tag:noindex
X-PUBLISHED-TTL:PT1H
BEGIN:VTIMEZONE
TZID:America/New_York
BEGIN:DAYLIGHT
TZOFFSETFROM:-0500
TZOFFSETTO:-0400
TZNAME:EDT
DTSTART:20210314T070000
END:DAYLIGHT
BEGIN:STANDARD
TZOFFSETFROM:-0400
TZOFFSETTO:-0500
TZNAME:EST
DTSTART:20211107T060000
END:STANDARD
BEGIN:DAYLIGHT
TZOFFSETFROM:-0500
TZOFFSETTO:-0400
TZNAME:EDT
DTSTART:20220313T070000
END:DAYLIGHT
BEGIN:STANDARD
TZOFFSETFROM:-0400
TZOFFSETTO:-0500
TZNAME:EST
DTSTART:20221106T060000
END:STANDARD
BEGIN:DAYLIGHT
TZOFFSETFROM:-0500
TZOFFSETTO:-0400
TZNAME:EDT
DTSTART:20230312T070000
END:DAYLIGHT
BEGIN:STANDARD
TZOFFSETFROM:-0400
TZOFFSETTO:-0500
TZNAME:EST
DTSTART:20231105T060000
END:STANDARD
BEGIN:DAYLIGHT
TZOFFSETFROM:-0500
TZOFFSETTO:-0400
TZNAME:EDT
DTSTART:20240310T070000
END:DAYLIGHT
BEGIN:STANDARD
TZOFFSETFROM:-0400
TZOFFSETTO:-0500
TZNAME:EST
DTSTART:20241103T060000
END:STANDARD
END:VTIMEZONE
BEGIN:VEVENT
DTSTART;TZID=America/New_York:20231019T073000
DTEND;TZID=America/New_York:20231019T163000
DTSTAMP:20260423T135154
CREATED:20230905T155000Z
LAST-MODIFIED:20231019T171637Z
UID:5585-1697700600-1697733000@infratalkamerica.com
SUMMARY:17th Annual Women In Construction Conference
DESCRIPTION:
URL:https://infratalkamerica.com/event/17th-annual-women-in-construction-conference/
LOCATION:Washington\, DC
CATEGORIES:Composite Bridges,Connected Construction,e-Ticketing,Positive Work Zone Protection
ATTACH;FMTTYPE=image/png:https://infratalkamerica.com/wp-content/uploads/2023/09/011212.png
END:VEVENT
BEGIN:VEVENT
DTSTART;TZID=America/New_York:20231012T130000
DTEND;TZID=America/New_York:20231012T130000
DTSTAMP:20260423T135154
CREATED:20230822T044835Z
LAST-MODIFIED:20231019T171649Z
UID:5543-1697115600-1697115600@infratalkamerica.com
SUMMARY:Thought leadership series: Accelerating Project Delivery through Innovation Procurement\, Partnerships\, and Financing Methods: Part 1
DESCRIPTION:Delivering the Benefits of the Bipartisan Infrastructure Law – Thought Leadership Series Webinars
URL:https://infratalkamerica.com/event/thought-leadership-series-accelerating-project-delivery-through-innovation-procurement-partnerships-and-financing-methods-part-1/
LOCATION:Webinar
CATEGORIES:Composite Bridges,Connected Construction,e-Ticketing,Positive Work Zone Protection,Webinar
ATTACH;FMTTYPE=image/png:https://infratalkamerica.com/wp-content/uploads/2023/08/e75203cc-26c4-4349-9255-43f9440365b8.png
END:VEVENT
BEGIN:VEVENT
DTSTART;TZID=America/New_York:20230927T130000
DTEND;TZID=America/New_York:20230927T130000
DTSTAMP:20260423T135154
CREATED:20230822T044645Z
LAST-MODIFIED:20231019T171710Z
UID:5541-1695819600-1695819600@infratalkamerica.com
SUMMARY:Thought leadership series: Using NEPA Review to Define and Shape Better Projects
DESCRIPTION:Delivering the Benefits of the Bipartisan Infrastructure Law – Thought Leadership Series Webinars
URL:https://infratalkamerica.com/event/thought-leadership-series-using-nepa-review-to-define-and-shape-better-projects/
LOCATION:Webinar
CATEGORIES:Composite Bridges,Connected Construction,e-Ticketing,Positive Work Zone Protection,Webinar
ATTACH;FMTTYPE=image/png:https://infratalkamerica.com/wp-content/uploads/2023/08/e75203cc-26c4-4349-9255-43f9440365b8.png
END:VEVENT
BEGIN:VEVENT
DTSTART;VALUE=DATE:20230910
DTEND;VALUE=DATE:20230914
DTSTAMP:20260423T135154
CREATED:20230905T155119Z
LAST-MODIFIED:20231019T171719Z
UID:5590-1694304000-1694649599@infratalkamerica.com
SUMMARY:2023 ARTBA National Convention
DESCRIPTION:
URL:https://infratalkamerica.com/event/2023-artba-national-convention/
LOCATION:Lodge at Torrey Pines
CATEGORIES:Composite Bridges,Connected Construction,e-Ticketing,Positive Work Zone Protection
ATTACH;FMTTYPE=image/jpeg:https://infratalkamerica.com/wp-content/uploads/2023/09/shutterstock_113738845.jpg
END:VEVENT
BEGIN:VEVENT
DTSTART;TZID=America/New_York:20230907T130000
DTEND;TZID=America/New_York:20230907T130000
DTSTAMP:20260423T135154
CREATED:20230822T044454Z
LAST-MODIFIED:20231019T171727Z
UID:5538-1694091600-1694091600@infratalkamerica.com
SUMMARY:Thought leadership series: Embedding Equity in Project Delivery
DESCRIPTION:Delivering the Benefits of the Bipartisan Infrastructure Law – Thought Leadership Series Webinars
URL:https://infratalkamerica.com/event/thought-leadership-series-sep7/
LOCATION:Webinar
CATEGORIES:Composite Bridges,Connected Construction,e-Ticketing,Positive Work Zone Protection,Virtual,Webinar
ATTACH;FMTTYPE=image/png:https://infratalkamerica.com/wp-content/uploads/2023/08/e75203cc-26c4-4349-9255-43f9440365b8.png
END:VEVENT
BEGIN:VEVENT
DTSTART;TZID=America/New_York:20230810T133000
DTEND;TZID=America/New_York:20230810T150000
DTSTAMP:20260423T135154
CREATED:20220715T031704Z
LAST-MODIFIED:20220901T173148Z
UID:1316-1691674200-1691679600@infratalkamerica.com
SUMMARY:FHWA Digital as Builts (DABS) webinar series - Mainstreaming DABs: Statewide and Programmatic
DESCRIPTION:The webinar will explore the institutional\, programmatic\, organizational and technological aspects\, such as advancing DAB statewide\, essential/secondary uses\, specifications/requirements\, data integrations/exchanges\, common data environment /information and communication technology (ICT) systems\, standards/policies\, data management /governance\, quality management and overcoming challenges/gaps to facilitate the expansion\, standardization and full implementation of DABs. The speakers will highlight various issues and potential strategies to address them.
URL:https://infratalkamerica.com/event/aug10-2023/
LOCATION:Webinar
CATEGORIES:Connected Construction,Webinar
ATTACH;FMTTYPE=image/png:https://infratalkamerica.com/wp-content/uploads/2022/07/dabs_home_banner_mobile-2x1-1.png
END:VEVENT
BEGIN:VEVENT
DTSTART;TZID=America/New_York:20230718T140000
DTEND;TZID=America/New_York:20230718T140000
DTSTAMP:20260423T135154
CREATED:20230713T170153Z
LAST-MODIFIED:20230713T170153Z
UID:5364-1689688800-1689688800@infratalkamerica.com
SUMMARY:Maximizing ADCMS Grant Opportunities
DESCRIPTION:State DOTs can now apply to FHWA for access to up to $34 million this year in funding for digital solutions to enhance their construction management systems\, including software\, hardware and training. The deadline for grant submissions is August 28\, 2023. In addition\, up to $17 million in grant funds will be available each year for FY 2024-2026.  \nUnderstanding the grant program requirements and key components is crucial for gaining a competitive edge in the submission process. In this live webinar\, experts will provide guidance on how to maximize Advanced Digital Construction Management Systems (ADCMS) grant opportunities. \nKey Takeaways:\nLearn about the ADCMS grant program and its requirements for state DOTs\nUnderstand the key components of a successful grant proposal\, including recommended language\nDiscover the importance of interoperability and equity within ADCMS grant submissions\nGet answers to your questions about grant-eligible projects and submission best practices
URL:https://infratalkamerica.com/event/maximizing-adcms-grant-opportunities/
LOCATION:Webinar
CATEGORIES:Connected Construction
ATTACH;FMTTYPE=image/jpeg:https://infratalkamerica.com/wp-content/uploads/2022/07/008-TrimbleR-e1657917753285.jpg
END:VEVENT
BEGIN:VEVENT
DTSTART;TZID=America/New_York:20230615T133000
DTEND;TZID=America/New_York:20230615T150000
DTSTAMP:20260423T135154
CREATED:20220715T031452Z
LAST-MODIFIED:20220901T173155Z
UID:1314-1686835800-1686841200@infratalkamerica.com
SUMMARY:FHWA Digital as Builts (DABS) webinar series - Engaging Stakeholders including Contractors and Consultants
DESCRIPTION:This webinar will focus on educating participants on digital as-built implementation involving engaging stakeholders including contractors/consultants. The webinar will include user stories from DOT agencies and their Contractors/Consultants implementing DABs. The lead DOT agencies will share their experience on projects involved\, successful implementations\, methods used\, specifications\, challenges encountered and lessons learned.
URL:https://infratalkamerica.com/event/jun15-2022/
LOCATION:Webinar
CATEGORIES:Connected Construction,Webinar
ATTACH;FMTTYPE=image/png:https://infratalkamerica.com/wp-content/uploads/2022/07/dabs_home_banner_mobile-2x1-1.png
END:VEVENT
BEGIN:VEVENT
DTSTART;TZID=America/New_York:20230209T133000
DTEND;TZID=America/New_York:20230209T150000
DTSTAMP:20260423T135154
CREATED:20220715T031118Z
LAST-MODIFIED:20220901T173205Z
UID:1310-1675949400-1675954800@infratalkamerica.com
SUMMARY:FHWA Digital as Builts (DABS) webinar series - Field Verify Assets and Quantities and Document DAB Model with Attributes to Systems of Record
DESCRIPTION:This webinar will focus on educating participants on implementation involving one of the essential use cases of digital as-builts: Document and archive as-built electronic PDF (ePDF) and model data to systems of record. The webinar will include user stories from DOT agencies using various methods: ePDF and CAD/BIM/GIS model-based. The lead DOT agencies will share their experiences on their successful implementation and projects involved\, specifications\, purpose/need\, data content captured\, form and format\, potential post-construction uses\, benefits\, challenges\, lessons learned and future work.
URL:https://infratalkamerica.com/event/feb09-2023/
LOCATION:Webinar
CATEGORIES:Connected Construction,Webinar
ATTACH;FMTTYPE=image/png:https://infratalkamerica.com/wp-content/uploads/2022/07/dabs_home_banner_mobile-2x1-1.png
END:VEVENT
BEGIN:VEVENT
DTSTART;TZID=America/New_York:20221208T133000
DTEND;TZID=America/New_York:20221208T150000
DTSTAMP:20260423T135154
CREATED:20221209T040854Z
LAST-MODIFIED:20220901T173213Z
UID:1307-1670506200-1670511600@infratalkamerica.com
SUMMARY:FHWA Digital as Builts (DABS) webinar series - Use 2D/3D Visual Models in Field to Streamline e-Construction
DESCRIPTION:This webinar will focus on educating participants on implementation involving one of the essential use cases of digital as-builts: Use advanced models for visual field inspection and e-construction. The webinar will include user stories from DOT agencies using various methods: Advanced CAD/BIM and GIS visual models to enhance e-Construction activities to supplement inspector’s daily work reports\, view plans with models\, identify field issues\, etc. during construction. The lead DOT agencies will share their experiences on their successful implementation and projects involved\, specifications\, purpose/need\, data content captured\, form and format\, potential post-construction uses\, benefits\, challenges\, lessons learned and future work.
URL:https://infratalkamerica.com/event/dec08-2022/
LOCATION:Webinar
CATEGORIES:Connected Construction,Webinar
ATTACH;FMTTYPE=image/png:https://infratalkamerica.com/wp-content/uploads/2022/07/dabs_home_banner_mobile-2x1-1.png
END:VEVENT
BEGIN:VEVENT
DTSTART;TZID=America/New_York:20221107T080000
DTEND;TZID=America/New_York:20221109T170000
DTSTAMP:20260423T135154
CREATED:20220715T025321Z
LAST-MODIFIED:20220822T172001Z
UID:1295-1667808000-1668013200@infratalkamerica.com
SUMMARY:Trimble Dimensions 2022
DESCRIPTION:See things in a new dimension\nSo much to do. One place to be. \nDimensions+ is going beyond what you’ve seen before. We are taking things to a new level\, bringing the digital and physical worlds together like never before. \nThis is your time. Come connect with the Trimble community.
URL:https://infratalkamerica.com/event/trimble-dimensions-2022/
LOCATION:The Venetian Resort\, 3355 Las Vegas Blvd. South\, Las Vegas\, NV\, 89109\, United States
CATEGORIES:Connected Construction
ATTACH;FMTTYPE=image/png:https://infratalkamerica.com/wp-content/uploads/2022/07/dimensions.png
END:VEVENT
BEGIN:VEVENT
DTSTART;VALUE=DATE:20221019
DTEND;VALUE=DATE:20221024
DTSTAMP:20260423T135154
CREATED:20220715T033351Z
LAST-MODIFIED:20220901T171155Z
UID:1329-1666137600-1666569599@infratalkamerica.com
SUMMARY:AASHTO 2022 Annual Meeting
DESCRIPTION:The AASHTO Annual Meeting is one of the industry’s most important gatherings of transportation\, government\, and commercial organizations. This week-long program offers transportation executives the opportunity to network and share the latest in industry policies and innovations.
URL:https://infratalkamerica.com/event/2022-aashto-annual-meeting/
LOCATION:Orlando\, FL\, United States
CATEGORIES:Annual Meeting,Composite Bridges,Connected Construction,e-Ticketing,Positive Work Zone Protection
ATTACH;FMTTYPE=image/png:https://infratalkamerica.com/wp-content/uploads/2022/09/Untitled-1.png
ORGANIZER;CN="Meghan Wozniak":MAILTO:mwozniak@aashto.org
END:VEVENT
BEGIN:VEVENT
DTSTART;VALUE=DATE:20221017
DTEND;VALUE=DATE:20221021
DTSTAMP:20260423T135154
CREATED:20220901T163018Z
LAST-MODIFIED:20220901T163243Z
UID:3606-1665964800-1666310399@infratalkamerica.com
SUMMARY:CAMX
DESCRIPTION:
URL:https://infratalkamerica.com/event/camx/
LOCATION:Anaheim Convention Center\, Anaheim\, CA\, United States
CATEGORIES:Composite Bridges,Connected Construction,e-Ticketing,Positive Work Zone Protection
ATTACH;FMTTYPE=image/png:https://infratalkamerica.com/wp-content/uploads/2022/09/CAMX.png
END:VEVENT
BEGIN:VEVENT
DTSTART;TZID=America/New_York:20221013T133000
DTEND;TZID=America/New_York:20221013T150000
DTSTAMP:20260423T135154
CREATED:20220715T030514Z
LAST-MODIFIED:20220901T173244Z
UID:1303-1665667800-1665673200@infratalkamerica.com
SUMMARY:FHWA Digital as Builts (DABS) webinar series - Geospatially Locate Assets for Stakeholder Lifecycle Uses
DESCRIPTION:This webinar will focus on educating participants on implementation involving of the essential use case of DABs: Geospatially locate assets for lifecycle data management. The webinar will include user stories from DOT agencies using various methods: Survey data collection\, Real-time utility data collection and CAD model-based. The lead DOT agencies will share their experiences on their successful implementation and projects involved\, specifications\, purpose/need\, data content captured\, form and format\, potential post-construction uses\, benefits\, challenges\, lessons learned and future work.
URL:https://infratalkamerica.com/event/oct13-2022/
LOCATION:Webinar
CATEGORIES:Connected Construction,Webinar
ATTACH;FMTTYPE=image/png:https://infratalkamerica.com/wp-content/uploads/2022/07/dabs_home_banner_mobile-2x1-1.png
END:VEVENT
BEGIN:VEVENT
DTSTART;VALUE=DATE:20220925
DTEND;VALUE=DATE:20220929
DTSTAMP:20260423T135154
CREATED:20220901T154120Z
LAST-MODIFIED:20220901T154131Z
UID:3602-1664064000-1664409599@infratalkamerica.com
SUMMARY:2022 ARTBA National Convention
DESCRIPTION:
URL:https://infratalkamerica.com/event/2022-artba-national-convention/
LOCATION:Conrad Nashville\, 1620 West End Avenue\, Nashville\, TN\, 37203\, United States
CATEGORIES:Annual Meeting,Composite Bridges,Connected Construction,e-Ticketing,Positive Work Zone Protection
ATTACH;FMTTYPE=image/jpeg:https://infratalkamerica.com/wp-content/uploads/2022/09/shutterstock_113738845.jpg
END:VEVENT
BEGIN:VEVENT
DTSTART;VALUE=DATE:20220925
DTEND;VALUE=DATE:20220930
DTSTAMP:20260423T135154
CREATED:20220901T153646Z
LAST-MODIFIED:20220901T153656Z
UID:3597-1664064000-1664495999@infratalkamerica.com
SUMMARY:The 63rd Annual International Heep Conference: Tradewinds in Transportation Technology
DESCRIPTION:
URL:https://infratalkamerica.com/event/the-63rf-annual-international-heep-conference-tradewinds-in-transportation-technology/
LOCATION:Fort Meyers\, FL\, FL\, United States
CATEGORIES:Composite Bridges,Connected Construction,e-Ticketing,Positive Work Zone Protection
ATTACH;FMTTYPE=image/png:https://infratalkamerica.com/wp-content/uploads/2022/09/sanibel-island-lighthouse-590x230-1.png
END:VEVENT
BEGIN:VEVENT
DTSTART;TZID=America/New_York:20220911T130000
DTEND;TZID=America/New_York:20220913T120000
DTSTAMP:20260423T135154
CREATED:20220715T033157Z
LAST-MODIFIED:20220901T173303Z
UID:1326-1662901200-1663070400@infratalkamerica.com
SUMMARY:2022 AASHTO/AGC/ARTBA Joint Committee Meeting
DESCRIPTION:
URL:https://infratalkamerica.com/event/2022-aashto-agc-artba-joint-committee-meeting/
LOCATION:Webinar
CATEGORIES:Composite Bridges,Connected Construction,e-Ticketing,Positive Work Zone Protection,Webinar
ATTACH;FMTTYPE=image/png:https://infratalkamerica.com/wp-content/uploads/2022/07/american-association-of-state-highway-and-transportation-officials-aashto-vector-logo.png
ORGANIZER;CN="Monica Russell":MAILTO:mrussell@aashto.org
END:VEVENT
BEGIN:VEVENT
DTSTART;VALUE=DATE:20220906
DTEND;VALUE=DATE:20220909
DTSTAMP:20260423T135154
CREATED:20220715T032946Z
LAST-MODIFIED:20220901T173310Z
UID:1322-1662422400-1662681599@infratalkamerica.com
SUMMARY:AASHTO Committee on Transportation Communications (TransComm) Meeting
DESCRIPTION:The annual TransComm meeting brings together public relations professionals from the 50 states\, Puerto Rico and the District of Columbia departments of transportation\, along with our consultant partners\, representatives of the U.S. DOT and others interested in communicating transportation topics. \nThe TransComm Annual Meeting is an opportunity for transportation communicators from around the United States to build relationships that benefit their state DOTs\, highlight successes\, share ideas and learn from each other. In addition\, much of the committee’s business is carried out during the meeting.
URL:https://infratalkamerica.com/event/aashto-committee-on-transportation-communications-transcomm-meeting/
LOCATION:La Fonda on the Plaza\, 100 East San Francisco Street\, Santa Fe\, NM\, 87501\, United States
CATEGORIES:Annual Meeting,Composite Bridges,Connected Construction,e-Ticketing,Positive Work Zone Protection
ATTACH;FMTTYPE=image/png:https://infratalkamerica.com/wp-content/uploads/2022/07/e6549b76b25e48cb9f3d25fdb84e0bf5_b7d1ea017858717b3c55769aee25633f.png
ORGANIZER;CN="AASHTO":MAILTO:meetings_inquiry@aashto.org
END:VEVENT
BEGIN:VEVENT
DTSTART;TZID=America/New_York:20220818T133000
DTEND;TZID=America/New_York:20220818T150000
DTSTAMP:20260423T135154
CREATED:20220715T030142Z
LAST-MODIFIED:20220901T173320Z
UID:1299-1660829400-1660834800@infratalkamerica.com
SUMMARY:FHWA Digital as Builts (DABS) webinar series - Capture and Implement Digital As-Builts
DESCRIPTION:This webinar will focus on educating participants on how to get started with capturing and implementing digital as-builts using essential use cases including: Geospatially locate assets for lifecycle data management and other use cases as a basis. The webinar will include user stories from DOTs who have gone about capturing DABs using various methods: Survey data collection and CAD model-based for post-construction use. The lead DOT agencies will share their experiences on their successful implementation and projects involved\, specifications\, purpose/need\, data content captured\, form and format\, potential post-construction uses\, benefits\, challenges\, lessons learned and future work.
URL:https://infratalkamerica.com/event/aug18-2022/
LOCATION:Webinar
CATEGORIES:Connected Construction,Webinar
ATTACH;FMTTYPE=image/png:https://infratalkamerica.com/wp-content/uploads/2022/07/dabs_home_banner_mobile-2x1-1.png
END:VEVENT
BEGIN:VEVENT
DTSTART;TZID=America/New_York:20220731T130000
DTEND;TZID=America/New_York:20220804T150000
DTSTAMP:20260423T135154
CREATED:20220715T032537Z
LAST-MODIFIED:20220901T173329Z
UID:1318-1659272400-1659625200@infratalkamerica.com
SUMMARY:2022 AASHTO Committee on Materials and Pavements Annual Meeting
DESCRIPTION:
URL:https://infratalkamerica.com/event/2022-aashto-committee-on-material-and-pavement-annual-meeting/
LOCATION:Webinar
CATEGORIES:Composite Bridges,Connected Construction,e-Ticketing,Positive Work Zone Protection,Webinar
ATTACH;FMTTYPE=image/png:https://infratalkamerica.com/wp-content/uploads/2022/07/american-association-of-state-highway-and-transportation-officials-aashto-vector-logo.png
ORGANIZER;CN="Meghan Wozniak":MAILTO:mwozniak@aashto.org
END:VEVENT
END:VCALENDAR