BEGIN:VCALENDAR
VERSION:2.0
PRODID:-//InfraTalk America - ECPv6.15.20//NONSGML v1.0//EN
CALSCALE:GREGORIAN
METHOD:PUBLISH
X-ORIGINAL-URL:https://infratalkamerica.com
X-WR-CALDESC:Events for InfraTalk America
REFRESH-INTERVAL;VALUE=DURATION:PT1H
X-Robots-Tag:noindex
X-PUBLISHED-TTL:PT1H
BEGIN:VTIMEZONE
TZID:America/New_York
BEGIN:DAYLIGHT
TZOFFSETFROM:-0500
TZOFFSETTO:-0400
TZNAME:EDT
DTSTART:20210314T070000
END:DAYLIGHT
BEGIN:STANDARD
TZOFFSETFROM:-0400
TZOFFSETTO:-0500
TZNAME:EST
DTSTART:20211107T060000
END:STANDARD
BEGIN:DAYLIGHT
TZOFFSETFROM:-0500
TZOFFSETTO:-0400
TZNAME:EDT
DTSTART:20220313T070000
END:DAYLIGHT
BEGIN:STANDARD
TZOFFSETFROM:-0400
TZOFFSETTO:-0500
TZNAME:EST
DTSTART:20221106T060000
END:STANDARD
BEGIN:DAYLIGHT
TZOFFSETFROM:-0500
TZOFFSETTO:-0400
TZNAME:EDT
DTSTART:20230312T070000
END:DAYLIGHT
BEGIN:STANDARD
TZOFFSETFROM:-0400
TZOFFSETTO:-0500
TZNAME:EST
DTSTART:20231105T060000
END:STANDARD
END:VTIMEZONE
BEGIN:VEVENT
DTSTART;TZID=America/New_York:20220731T130000
DTEND;TZID=America/New_York:20220804T150000
DTSTAMP:20260423T123921
CREATED:20220715T032537Z
LAST-MODIFIED:20220901T173329Z
UID:1318-1659272400-1659625200@infratalkamerica.com
SUMMARY:2022 AASHTO Committee on Materials and Pavements Annual Meeting
DESCRIPTION:
URL:https://infratalkamerica.com/event/2022-aashto-committee-on-material-and-pavement-annual-meeting/
LOCATION:Webinar
CATEGORIES:Composite Bridges,Connected Construction,e-Ticketing,Positive Work Zone Protection,Webinar
ATTACH;FMTTYPE=image/png:https://infratalkamerica.com/wp-content/uploads/2022/07/american-association-of-state-highway-and-transportation-officials-aashto-vector-logo.png
ORGANIZER;CN="Meghan Wozniak":MAILTO:mwozniak@aashto.org
END:VEVENT
BEGIN:VEVENT
DTSTART;TZID=America/New_York:20220621T130000
DTEND;TZID=America/New_York:20220621T140000
DTSTAMP:20260423T123921
CREATED:20220619T050026Z
LAST-MODIFIED:20220715T033040Z
UID:583-1655816400-1655820000@infratalkamerica.com
SUMMARY:InfraTalk America Inaugural Policy Roundtable: The Past and Future of Innovation in Infrastructure
DESCRIPTION:Join several Infrastructure Ventures (IV) Board of Advisor members for a wide-ranging discussion on advancing innovation in the Federal Aid Highway Program\, with several former state and federal agency leaders. IV Chairman and InfraTalk America Publisher\, Gregory Nadeau\, a former MaineDOT Deputy Commissioner and USDOT FHWA Administrator\, VM Consulting Group principal and former USDOT Deputy Secretary\, Victor Mendez PE and President of Ann L. Schneider and Associates and former Illinois Department of Transportation Secretary\, Dr. Ann Schneider. These seasoned transportation veterans will reflect on over a decade of FHWA’s Every Day Counts innovation partnership with the states\, the role of state departments of transportation and local infrastructure agencies in the advancement of technology and innovation policy and practice. Karyn Le Blanc\, CEO & Founder of KGL Communications and former Director of Communications for the District Department of Transportation in Washington DC\, will serve as Roundtable moderator. \n  \nREGISTER NOW!
URL:https://infratalkamerica.com/event/inaugural-policy-roundtable/
LOCATION:Zoom Webinar
CATEGORIES:Webinar
ATTACH;FMTTYPE=image/jpeg:https://infratalkamerica.com/wp-content/uploads/2022/06/ITA-SM-promo2.jpg
END:VEVENT
END:VCALENDAR